BEGIN:VCALENDAR
VERSION:2.0
PRODID:-//Goldgrube//myauktion.com//AT
CALSCALE:GREGORIAN
BEGIN:VEVENT
DTSTART:20260503T143700
DTEND:20260503T143730
LOCATION:Gewerbepark 13, 8562 Mooskirchen
DTSTAMP:20260419T205717
SUMMARY:MyAuktion: Ablauf Artikel Nr. 956444 Original Helmets Helm 
URL;VALUE=URI:https://www.myauktion.com/versteigerung7639-position2437643-original-helmets-helm.php
DESCRIPTION:Gr. M 
UID:myauktion-7639-2437643
BEGIN:VALARM
ACTION:DISPLAY
DESCRIPTION:Gr. M 
TRIGGER:-PT10M
END:VALARM
END:VEVENT
END:VCALENDAR