BEGIN:VCALENDAR
VERSION:2.0
PRODID:-//Goldgrube//myauktion.com//AT
CALSCALE:GREGORIAN
BEGIN:VEVENT
DTSTART:20260503T094400
DTEND:20260503T094430
LOCATION:Gewerbepark 13, 8562 Mooskirchen
DTSTAMP:20260419T142658
SUMMARY:MyAuktion: Ablauf Artikel Nr. 955315 Grundfos UPS 25-40 Umwälzpumpe
URL;VALUE=URI:https://www.myauktion.com/versteigerung7639-position2437644-grundfos-ups-25-40-umwaelzpumpe.php
DESCRIPTION:Gebraucht
UID:myauktion-7639-2437644
BEGIN:VALARM
ACTION:DISPLAY
DESCRIPTION:Gebraucht
TRIGGER:-PT10M
END:VALARM
END:VEVENT
END:VCALENDAR