BEGIN:VCALENDAR
VERSION:2.0
PRODID:-//Goldgrube//myauktion.com//AT
CALSCALE:GREGORIAN
BEGIN:VEVENT
DTSTART:20260503T111800
DTEND:20260503T111830
LOCATION:Gewerbepark 13, 8562 Mooskirchen
DTSTAMP:20260419T154436
SUMMARY:MyAuktion: Ablauf Artikel Nr. 955598 Afli Battery Charger model: AF900 200~240V
URL;VALUE=URI:https://www.myauktion.com/versteigerung7639-position2437645-afli-battery-charger-model-af900-200240v.php
DESCRIPTION:
UID:myauktion-7639-2437645
BEGIN:VALARM
ACTION:DISPLAY
DESCRIPTION:
TRIGGER:-PT10M
END:VALARM
END:VEVENT
END:VCALENDAR