BEGIN:VCALENDAR
VERSION:2.0
PRODID:-//Goldgrube//myauktion.com//AT
CALSCALE:GREGORIAN
BEGIN:VEVENT
DTSTART:20260503T143900
DTEND:20260503T143930
LOCATION:Gewerbepark 13, 8562 Mooskirchen
DTSTAMP:20260419T192403
SUMMARY:MyAuktion: Ablauf Artikel Nr. 956446 Diverse Teppich Breite ca. 120cm 
URL;VALUE=URI:https://www.myauktion.com/versteigerung7639-position2437648-diverse-teppich-breite-ca-120cm.php
DESCRIPTION:Keine weiteren Daten ersichtlich
UID:myauktion-7639-2437648
BEGIN:VALARM
ACTION:DISPLAY
DESCRIPTION:Keine weiteren Daten ersichtlich
TRIGGER:-PT10M
END:VALARM
END:VEVENT
END:VCALENDAR