BEGIN:VCALENDAR
VERSION:2.0
PRODID:-//Goldgrube//myauktion.com//AT
CALSCALE:GREGORIAN
BEGIN:VEVENT
DTSTART:20260503T144000
DTEND:20260503T144030
LOCATION:Gewerbepark 13, 8562 Mooskirchen
DTSTAMP:20260419T192404
SUMMARY:MyAuktion: Ablauf Artikel Nr. 956447 Schraubensaltogürtel 
URL;VALUE=URI:https://www.myauktion.com/versteigerung7639-position2437649-schraubensaltoguertel.php
DESCRIPTION:Keine weiteren Daten ersichtlich
UID:myauktion-7639-2437649
BEGIN:VALARM
ACTION:DISPLAY
DESCRIPTION:Keine weiteren Daten ersichtlich
TRIGGER:-PT10M
END:VALARM
END:VEVENT
END:VCALENDAR