BEGIN:VCALENDAR
VERSION:2.0
PRODID:-//Goldgrube//myauktion.com//AT
CALSCALE:GREGORIAN
BEGIN:VEVENT
DTSTART:20260503T111900
DTEND:20260503T111930
LOCATION:Gewerbepark 13, 8562 Mooskirchen
DTSTAMP:20260419T154441
SUMMARY:MyAuktion: Ablauf Artikel Nr. 955599 Wasserzähler 3Stk 
URL;VALUE=URI:https://www.myauktion.com/versteigerung7639-position2437651-wasserzaehler-3stk.php
DESCRIPTION:Gebraucht, Verschmutzt  
UID:myauktion-7639-2437651
BEGIN:VALARM
ACTION:DISPLAY
DESCRIPTION:Gebraucht, Verschmutzt  
TRIGGER:-PT10M
END:VALARM
END:VEVENT
END:VCALENDAR