BEGIN:VCALENDAR
VERSION:2.0
PRODID:-//Goldgrube//myauktion.com//AT
CALSCALE:GREGORIAN
BEGIN:VEVENT
DTSTART:20260503T144300
DTEND:20260503T144330
LOCATION:Gewerbepark 13, 8562 Mooskirchen
DTSTAMP:20260419T192349
SUMMARY:MyAuktion: Ablauf Artikel Nr. 956450 Mite Removal Instrument CC-002 
URL;VALUE=URI:https://www.myauktion.com/versteigerung7639-position2437655-mite-removal-instrument-cc-002.php
DESCRIPTION:Gebraucht, verschmutzt, Funktion nicht getestet 
UID:myauktion-7639-2437655
BEGIN:VALARM
ACTION:DISPLAY
DESCRIPTION:Gebraucht, verschmutzt, Funktion nicht getestet 
TRIGGER:-PT10M
END:VALARM
END:VEVENT
END:VCALENDAR