BEGIN:VCALENDAR
VERSION:2.0
PRODID:-//Goldgrube//myauktion.com//AT
CALSCALE:GREGORIAN
BEGIN:VEVENT
DTSTART:20260503T112000
DTEND:20260503T112030
LOCATION:Gewerbepark 13, 8562 Mooskirchen
DTSTAMP:20260421T122730
SUMMARY:MyAuktion: Ablauf Artikel Nr. 955600 AS Rock 2790 Steel Legend WiFi 382*319*94mm 
URL;VALUE=URI:https://www.myauktion.com/versteigerung7639-position2437656-as-rock-2790-steel-legend-wifi-38231994mm.php
DESCRIPTION:
UID:myauktion-7639-2437656
BEGIN:VALARM
ACTION:DISPLAY
DESCRIPTION:
TRIGGER:-PT10M
END:VALARM
END:VEVENT
END:VCALENDAR