BEGIN:VCALENDAR
VERSION:2.0
PRODID:-//Goldgrube//myauktion.com//AT
CALSCALE:GREGORIAN
BEGIN:VEVENT
DTSTART:20260503T144500
DTEND:20260503T144530
LOCATION:Gewerbepark 13, 8562 Mooskirchen
DTSTAMP:20260419T192405
SUMMARY:MyAuktion: Ablauf Artikel Nr. 956452 String Pocket Sage w60 d15 h50cm 
URL;VALUE=URI:https://www.myauktion.com/versteigerung7639-position2437658-string-pocket-sage-w60-d15-h50cm.php
DESCRIPTION:
UID:myauktion-7639-2437658
BEGIN:VALARM
ACTION:DISPLAY
DESCRIPTION:
TRIGGER:-PT10M
END:VALARM
END:VEVENT
END:VCALENDAR