BEGIN:VCALENDAR
VERSION:2.0
PRODID:-//Goldgrube//myauktion.com//AT
CALSCALE:GREGORIAN
BEGIN:VEVENT
DTSTART:20260503T095300
DTEND:20260503T095330
LOCATION:Gewerbepark 13, 8562 Mooskirchen
DTSTAMP:20260419T142648
SUMMARY:MyAuktion: Ablauf Artikel Nr. 955319 Kabellose LED Tischlampe 
URL;VALUE=URI:https://www.myauktion.com/versteigerung7639-position2437660-kabellose-led-tischlampe.php
DESCRIPTION:Ca 34,5cm hoch 
UID:myauktion-7639-2437660
BEGIN:VALARM
ACTION:DISPLAY
DESCRIPTION:Ca 34,5cm hoch 
TRIGGER:-PT10M
END:VALARM
END:VEVENT
END:VCALENDAR