BEGIN:VCALENDAR
VERSION:2.0
PRODID:-//Goldgrube//myauktion.com//AT
CALSCALE:GREGORIAN
BEGIN:VEVENT
DTSTART:20260503T144600
DTEND:20260503T144630
LOCATION:Gewerbepark 13, 8562 Mooskirchen
DTSTAMP:20260419T193446
SUMMARY:MyAuktion: Ablauf Artikel Nr. 956453 Diverse Mini Monitor ca. 24x19cm 
URL;VALUE=URI:https://www.myauktion.com/versteigerung7639-position2437661-diverse-mini-monitor-ca-24x19cm.php
DESCRIPTION:Keine weiteren Daten ersichtlich
UID:myauktion-7639-2437661
BEGIN:VALARM
ACTION:DISPLAY
DESCRIPTION:Keine weiteren Daten ersichtlich
TRIGGER:-PT10M
END:VALARM
END:VEVENT
END:VCALENDAR