BEGIN:VCALENDAR
VERSION:2.0
PRODID:-//Goldgrube//myauktion.com//AT
CALSCALE:GREGORIAN
BEGIN:VEVENT
DTSTART:20260503T144700
DTEND:20260503T144730
LOCATION:Gewerbepark 13, 8562 Mooskirchen
DTSTAMP:20260419T193446
SUMMARY:MyAuktion: Ablauf Artikel Nr. 956454 iFence Sichtschutzstreifen 740grau 50m x 19cm 
URL;VALUE=URI:https://www.myauktion.com/versteigerung7639-position2437662-ifence-sichtschutzstreifen-740grau-50m-x-19cm.php
DESCRIPTION:
UID:myauktion-7639-2437662
BEGIN:VALARM
ACTION:DISPLAY
DESCRIPTION:
TRIGGER:-PT10M
END:VALARM
END:VEVENT
END:VCALENDAR