BEGIN:VCALENDAR
VERSION:2.0
PRODID:-//Goldgrube//myauktion.com//AT
CALSCALE:GREGORIAN
BEGIN:VEVENT
DTSTART:20260503T145100
DTEND:20260503T145130
LOCATION:Gewerbepark 13, 8562 Mooskirchen
DTSTAMP:20260419T192405
SUMMARY:MyAuktion: Ablauf Artikel Nr. 956457 Auto Brillenetui 
URL;VALUE=URI:https://www.myauktion.com/versteigerung7639-position2437665-auto-brillenetui.php
DESCRIPTION:
UID:myauktion-7639-2437665
BEGIN:VALARM
ACTION:DISPLAY
DESCRIPTION:
TRIGGER:-PT10M
END:VALARM
END:VEVENT
END:VCALENDAR