BEGIN:VCALENDAR
VERSION:2.0
PRODID:-//Goldgrube//myauktion.com//AT
CALSCALE:GREGORIAN
BEGIN:VEVENT
DTSTART:20260503T095400
DTEND:20260503T095430
LOCATION:Gewerbepark 13, 8562 Mooskirchen
DTSTAMP:20260419T205717
SUMMARY:MyAuktion: Ablauf Artikel Nr. 955320 Kabelloser Hochdruckreiniger Inklusive Zubehör
URL;VALUE=URI:https://www.myauktion.com/versteigerung7639-position2437668-kabelloser-hochdruckreiniger-inklusive-zubehoer.php
DESCRIPTION:
UID:myauktion-7639-2437668
BEGIN:VALARM
ACTION:DISPLAY
DESCRIPTION:
TRIGGER:-PT10M
END:VALARM
END:VEVENT
END:VCALENDAR