BEGIN:VCALENDAR
VERSION:2.0
PRODID:-//Goldgrube//myauktion.com//AT
CALSCALE:GREGORIAN
BEGIN:VEVENT
DTSTART:20260503T145500
DTEND:20260503T145530
LOCATION:Gewerbepark 13, 8562 Mooskirchen
DTSTAMP:20260419T205715
SUMMARY:MyAuktion: Ablauf Artikel Nr. 956460 Diverse Abdeckplane 
URL;VALUE=URI:https://www.myauktion.com/versteigerung7639-position2437670-diverse-abdeckplane.php
DESCRIPTION:Keine weiteren Daten ersichtlich
UID:myauktion-7639-2437670
BEGIN:VALARM
ACTION:DISPLAY
DESCRIPTION:Keine weiteren Daten ersichtlich
TRIGGER:-PT10M
END:VALARM
END:VEVENT
END:VCALENDAR