BEGIN:VCALENDAR
VERSION:2.0
PRODID:-//Goldgrube//myauktion.com//AT
CALSCALE:GREGORIAN
BEGIN:VEVENT
DTSTART:20260503T112300
DTEND:20260503T112330
LOCATION:Gewerbepark 13, 8562 Mooskirchen
DTSTAMP:20260419T195657
SUMMARY:MyAuktion: Ablauf Artikel Nr. 955603 Avery Zweckform Kassa Ausgang 1709 3x40 Blatt 4Stk
URL;VALUE=URI:https://www.myauktion.com/versteigerung7639-position2437671-avery-zweckform-kassa-ausgang-1709-3x40-blatt-4stk.php
DESCRIPTION:
UID:myauktion-7639-2437671
BEGIN:VALARM
ACTION:DISPLAY
DESCRIPTION:
TRIGGER:-PT10M
END:VALARM
END:VEVENT
END:VCALENDAR