BEGIN:VCALENDAR
VERSION:2.0
PRODID:-//Goldgrube//myauktion.com//AT
CALSCALE:GREGORIAN
BEGIN:VEVENT
DTSTART:20260503T145600
DTEND:20260503T145630
LOCATION:Gewerbepark 13, 8562 Mooskirchen
DTSTAMP:20260419T192406
SUMMARY:MyAuktion: Ablauf Artikel Nr. 956461 4K Ultra HD Set Top Box 
URL;VALUE=URI:https://www.myauktion.com/versteigerung7639-position2437672-4k-ultra-hd-set-top-box.php
DESCRIPTION:Verpackung beschädigt 
UID:myauktion-7639-2437672
BEGIN:VALARM
ACTION:DISPLAY
DESCRIPTION:Verpackung beschädigt 
TRIGGER:-PT10M
END:VALARM
END:VEVENT
END:VCALENDAR