BEGIN:VCALENDAR
VERSION:2.0
PRODID:-//Goldgrube//myauktion.com//AT
CALSCALE:GREGORIAN
BEGIN:VEVENT
DTSTART:20260503T145800
DTEND:20260503T145830
LOCATION:Gewerbepark 13, 8562 Mooskirchen
DTSTAMP:20260419T192407
SUMMARY:MyAuktion: Ablauf Artikel Nr. 956462 Loqcreatee Composite X Photopolymer Resin Engineering 1,5kg 
URL;VALUE=URI:https://www.myauktion.com/versteigerung7639-position2437673-loqcreatee-composite-x-photopolymer-resin-engineering-15kg.php
DESCRIPTION:
UID:myauktion-7639-2437673
BEGIN:VALARM
ACTION:DISPLAY
DESCRIPTION:
TRIGGER:-PT10M
END:VALARM
END:VEVENT
END:VCALENDAR