BEGIN:VCALENDAR
VERSION:2.0
PRODID:-//Goldgrube//myauktion.com//AT
CALSCALE:GREGORIAN
BEGIN:VEVENT
DTSTART:20260503T145900
DTEND:20260503T145930
LOCATION:Gewerbepark 13, 8562 Mooskirchen
DTSTAMP:20260419T211838
SUMMARY:MyAuktion: Ablauf Artikel Nr. 956463 Microsoft Surface Dock 
URL;VALUE=URI:https://www.myauktion.com/versteigerung7639-position2437675-microsoft-surface-dock.php
DESCRIPTION:Gebraucht, Funktion nicht getestet 
UID:myauktion-7639-2437675
BEGIN:VALARM
ACTION:DISPLAY
DESCRIPTION:Gebraucht, Funktion nicht getestet 
TRIGGER:-PT10M
END:VALARM
END:VEVENT
END:VCALENDAR