BEGIN:VCALENDAR
VERSION:2.0
PRODID:-//Goldgrube//myauktion.com//AT
CALSCALE:GREGORIAN
BEGIN:VEVENT
DTSTART:20260503T150000
DTEND:20260503T150030
LOCATION:Gewerbepark 13, 8562 Mooskirchen
DTSTAMP:20260419T192402
SUMMARY:MyAuktion: Ablauf Artikel Nr. 956464 Netzteil für Microsoft Surface 
URL;VALUE=URI:https://www.myauktion.com/versteigerung7639-position2437676-netzteil-fuer-microsoft-surface.php
DESCRIPTION:Gebraucht, Funktion nicht getestet 
UID:myauktion-7639-2437676
BEGIN:VALARM
ACTION:DISPLAY
DESCRIPTION:Gebraucht, Funktion nicht getestet 
TRIGGER:-PT10M
END:VALARM
END:VEVENT
END:VCALENDAR