BEGIN:VCALENDAR
VERSION:2.0
PRODID:-//Goldgrube//myauktion.com//AT
CALSCALE:GREGORIAN
BEGIN:VEVENT
DTSTART:20260503T095500
DTEND:20260503T095530
LOCATION:Gewerbepark 13, 8562 Mooskirchen
DTSTAMP:20260419T142658
SUMMARY:MyAuktion: Ablauf Artikel Nr. 955321 Krups Nescafé Dolce Gusto Piccolo XS 
URL;VALUE=URI:https://www.myauktion.com/versteigerung7639-position2437677-krups-nescafe-dolce-gusto-piccolo-xs.php
DESCRIPTION:No. KP1A3BCL
UID:myauktion-7639-2437677
BEGIN:VALARM
ACTION:DISPLAY
DESCRIPTION:No. KP1A3BCL
TRIGGER:-PT10M
END:VALARM
END:VEVENT
END:VCALENDAR