BEGIN:VCALENDAR
VERSION:2.0
PRODID:-//Goldgrube//myauktion.com//AT
CALSCALE:GREGORIAN
BEGIN:VEVENT
DTSTART:20260503T150100
DTEND:20260503T150130
LOCATION:Gewerbepark 13, 8562 Mooskirchen
DTSTAMP:20260419T154440
SUMMARY:MyAuktion: Ablauf Artikel Nr. 956465 Tchibo 4 Trinkbecher aus Porzellan 350ml 
URL;VALUE=URI:https://www.myauktion.com/versteigerung7639-position2437678-tchibo-4-trinkbecher-aus-porzellan-350ml.php
DESCRIPTION:
UID:myauktion-7639-2437678
BEGIN:VALARM
ACTION:DISPLAY
DESCRIPTION:
TRIGGER:-PT10M
END:VALARM
END:VEVENT
END:VCALENDAR