BEGIN:VCALENDAR
VERSION:2.0
PRODID:-//Goldgrube//myauktion.com//AT
CALSCALE:GREGORIAN
BEGIN:VEVENT
DTSTART:20260503T150200
DTEND:20260503T150230
LOCATION:Gewerbepark 13, 8562 Mooskirchen
DTSTAMP:20260419T140250
SUMMARY:MyAuktion: Ablauf Artikel Nr. 956466 Spar Anzucht- & Kräuter Erde torffrei 5L 
URL;VALUE=URI:https://www.myauktion.com/versteigerung7639-position2437680-spar-anzucht-38-kraeuter-erde-torffrei-5l.php
DESCRIPTION:
UID:myauktion-7639-2437680
BEGIN:VALARM
ACTION:DISPLAY
DESCRIPTION:
TRIGGER:-PT10M
END:VALARM
END:VEVENT
END:VCALENDAR