BEGIN:VCALENDAR
VERSION:2.0
PRODID:-//Goldgrube//myauktion.com//AT
CALSCALE:GREGORIAN
BEGIN:VEVENT
DTSTART:20260503T150300
DTEND:20260503T150330
LOCATION:Gewerbepark 13, 8562 Mooskirchen
DTSTAMP:20260419T154440
SUMMARY:MyAuktion: Ablauf Artikel Nr. 956467 Dubi Aktivkohlrfilter zum Bauen ø7mm 420x 
URL;VALUE=URI:https://www.myauktion.com/versteigerung7639-position2437681-dubi-aktivkohlrfilter-zum-bauen-7mm-420x.php
DESCRIPTION:
UID:myauktion-7639-2437681
BEGIN:VALARM
ACTION:DISPLAY
DESCRIPTION:
TRIGGER:-PT10M
END:VALARM
END:VEVENT
END:VCALENDAR