BEGIN:VCALENDAR
VERSION:2.0
PRODID:-//Goldgrube//myauktion.com//AT
CALSCALE:GREGORIAN
BEGIN:VEVENT
DTSTART:20260503T150400
DTEND:20260503T150430
LOCATION:Gewerbepark 13, 8562 Mooskirchen
DTSTAMP:20260419T154444
SUMMARY:MyAuktion: Ablauf Artikel Nr. 956468 Spark Oracle Red Bull Racing RB18 Winner Japanese GP 2022 1:18scale 
URL;VALUE=URI:https://www.myauktion.com/versteigerung7639-position2437683-spark-oracle-red-bull-racing-rb18-winner-japanese-gp-2022-118scale.php
DESCRIPTION:
UID:myauktion-7639-2437683
BEGIN:VALARM
ACTION:DISPLAY
DESCRIPTION:
TRIGGER:-PT10M
END:VALARM
END:VEVENT
END:VCALENDAR