BEGIN:VCALENDAR
VERSION:2.0
PRODID:-//Goldgrube//myauktion.com//AT
CALSCALE:GREGORIAN
BEGIN:VEVENT
DTSTART:20260503T150500
DTEND:20260503T150530
LOCATION:Gewerbepark 13, 8562 Mooskirchen
DTSTAMP:20260419T154445
SUMMARY:MyAuktion: Ablauf Artikel Nr. 956469 Paraffin Wax Machine YM-8005 
URL;VALUE=URI:https://www.myauktion.com/versteigerung7639-position2437684-paraffin-wax-machine-ym-8005.php
DESCRIPTION:
UID:myauktion-7639-2437684
BEGIN:VALARM
ACTION:DISPLAY
DESCRIPTION:
TRIGGER:-PT10M
END:VALARM
END:VEVENT
END:VCALENDAR