BEGIN:VCALENDAR
VERSION:2.0
PRODID:-//Goldgrube//myauktion.com//AT
CALSCALE:GREGORIAN
BEGIN:VEVENT
DTSTART:20260503T095600
DTEND:20260503T095630
LOCATION:Gewerbepark 13, 8562 Mooskirchen
DTSTAMP:20260419T142658
SUMMARY:MyAuktion: Ablauf Artikel Nr. 955322 Küchengläser mit Beschriftungs Sticker Set
URL;VALUE=URI:https://www.myauktion.com/versteigerung7639-position2437685-kuechenglaeser-mit-beschriftungs-sticker-set.php
DESCRIPTION:
UID:myauktion-7639-2437685
BEGIN:VALARM
ACTION:DISPLAY
DESCRIPTION:
TRIGGER:-PT10M
END:VALARM
END:VEVENT
END:VCALENDAR