BEGIN:VCALENDAR
VERSION:2.0
PRODID:-//Goldgrube//myauktion.com//AT
CALSCALE:GREGORIAN
BEGIN:VEVENT
DTSTART:20260503T150700
DTEND:20260503T150730
LOCATION:Gewerbepark 13, 8562 Mooskirchen
DTSTAMP:20260419T154442
SUMMARY:MyAuktion: Ablauf Artikel Nr. 956471 LocknLock Classic Food Container 2,3L 
URL;VALUE=URI:https://www.myauktion.com/versteigerung7639-position2437688-locknlock-classic-food-container-23l.php
DESCRIPTION:
UID:myauktion-7639-2437688
BEGIN:VALARM
ACTION:DISPLAY
DESCRIPTION:
TRIGGER:-PT10M
END:VALARM
END:VEVENT
END:VCALENDAR