BEGIN:VCALENDAR
VERSION:2.0
PRODID:-//Goldgrube//myauktion.com//AT
CALSCALE:GREGORIAN
BEGIN:VEVENT
DTSTART:20260503T095800
DTEND:20260503T095830
LOCATION:Gewerbepark 13, 8562 Mooskirchen
DTSTAMP:20260419T142658
SUMMARY:MyAuktion: Ablauf Artikel Nr. 955324 Rauma Teppichläufer 80×400cm Rutschfest
URL;VALUE=URI:https://www.myauktion.com/versteigerung7639-position2437692-rauma-teppichlaeufer-80400cm-rutschfest.php
DESCRIPTION:
UID:myauktion-7639-2437692
BEGIN:VALARM
ACTION:DISPLAY
DESCRIPTION:
TRIGGER:-PT10M
END:VALARM
END:VEVENT
END:VCALENDAR