BEGIN:VCALENDAR
VERSION:2.0
PRODID:-//Goldgrube//myauktion.com//AT
CALSCALE:GREGORIAN
BEGIN:VEVENT
DTSTART:20260503T151200
DTEND:20260503T151230
LOCATION:Gewerbepark 13, 8562 Mooskirchen
DTSTAMP:20260419T195657
SUMMARY:MyAuktion: Ablauf Artikel Nr. 956475 Kerzenhalter 
URL;VALUE=URI:https://www.myauktion.com/versteigerung7639-position2437693-kerzenhalter.php
DESCRIPTION:
UID:myauktion-7639-2437693
BEGIN:VALARM
ACTION:DISPLAY
DESCRIPTION:
TRIGGER:-PT10M
END:VALARM
END:VEVENT
END:VCALENDAR