BEGIN:VCALENDAR
VERSION:2.0
PRODID:-//Goldgrube//myauktion.com//AT
CALSCALE:GREGORIAN
BEGIN:VEVENT
DTSTART:20260503T112700
DTEND:20260503T112730
LOCATION:Gewerbepark 13, 8562 Mooskirchen
DTSTAMP:20260419T154442
SUMMARY:MyAuktion: Ablauf Artikel Nr. 955607 Mimi Kalu Seitenschläferkissen Grau mit schlafbrille 
URL;VALUE=URI:https://www.myauktion.com/versteigerung7639-position2437694-mimi-kalu-seitenschlaeferkissen-grau-mit-schlafbrille.php
DESCRIPTION:Größe nicht ersichtlich 
UID:myauktion-7639-2437694
BEGIN:VALARM
ACTION:DISPLAY
DESCRIPTION:Größe nicht ersichtlich 
TRIGGER:-PT10M
END:VALARM
END:VEVENT
END:VCALENDAR