BEGIN:VCALENDAR
VERSION:2.0
PRODID:-//Goldgrube//myauktion.com//AT
CALSCALE:GREGORIAN
BEGIN:VEVENT
DTSTART:20260503T095900
DTEND:20260503T095930
LOCATION:Gewerbepark 13, 8562 Mooskirchen
DTSTAMP:20260419T154438
SUMMARY:MyAuktion: Ablauf Artikel Nr. 955325 Druckerpapier DIN A4
URL;VALUE=URI:https://www.myauktion.com/versteigerung7639-position2437695-druckerpapier-din-a4.php
DESCRIPTION:<div>Verpavkung beschädigt</div>
UID:myauktion-7639-2437695
BEGIN:VALARM
ACTION:DISPLAY
DESCRIPTION:<div>Verpavkung beschädigt</div>
TRIGGER:-PT10M
END:VALARM
END:VEVENT
END:VCALENDAR