BEGIN:VCALENDAR
VERSION:2.0
PRODID:-//Goldgrube//myauktion.com//AT
CALSCALE:GREGORIAN
BEGIN:VEVENT
DTSTART:20260503T100000
DTEND:20260503T100030
LOCATION:Gewerbepark 13, 8562 Mooskirchen
DTSTAMP:20260419T142659
SUMMARY:MyAuktion: Ablauf Artikel Nr. 955326 BGS technic Hydraulischer Flaschen-Wagenheber
URL;VALUE=URI:https://www.myauktion.com/versteigerung7639-position2437697-bgs-technic-hydraulischer-flaschen-wagenheber.php
DESCRIPTION:Gebraucht, unvollständig, Verpackung Beschädigt 
UID:myauktion-7639-2437697
BEGIN:VALARM
ACTION:DISPLAY
DESCRIPTION:Gebraucht, unvollständig, Verpackung Beschädigt 
TRIGGER:-PT10M
END:VALARM
END:VEVENT
END:VCALENDAR