BEGIN:VCALENDAR
VERSION:2.0
PRODID:-//Goldgrube//myauktion.com//AT
CALSCALE:GREGORIAN
BEGIN:VEVENT
DTSTART:20260503T151300
DTEND:20260503T151330
LOCATION:Gewerbepark 13, 8562 Mooskirchen
DTSTAMP:20260419T154446
SUMMARY:MyAuktion: Ablauf Artikel Nr. 956476 Parkside PASSK 20-Li C4 ohne Akku
URL;VALUE=URI:https://www.myauktion.com/versteigerung7639-position2437698-parkside-passk-20-li-c4-ohne-akku.php
DESCRIPTION:
UID:myauktion-7639-2437698
BEGIN:VALARM
ACTION:DISPLAY
DESCRIPTION:
TRIGGER:-PT10M
END:VALARM
END:VEVENT
END:VCALENDAR