BEGIN:VCALENDAR
VERSION:2.0
PRODID:-//Goldgrube//myauktion.com//AT
CALSCALE:GREGORIAN
BEGIN:VEVENT
DTSTART:20260503T100100
DTEND:20260503T100130
LOCATION:Gewerbepark 13, 8562 Mooskirchen
DTSTAMP:20260419T154433
SUMMARY:MyAuktion: Ablauf Artikel Nr. 955327 Bosch SDS max Break Through 
URL;VALUE=URI:https://www.myauktion.com/versteigerung7639-position2437701-bosch-sds-max-break-through.php
DESCRIPTION:450/600mm, 65mm Durchmesser
UID:myauktion-7639-2437701
BEGIN:VALARM
ACTION:DISPLAY
DESCRIPTION:450/600mm, 65mm Durchmesser
TRIGGER:-PT10M
END:VALARM
END:VEVENT
END:VCALENDAR