BEGIN:VCALENDAR
VERSION:2.0
PRODID:-//Goldgrube//myauktion.com//AT
CALSCALE:GREGORIAN
BEGIN:VEVENT
DTSTART:20260503T113300
DTEND:20260503T113330
LOCATION:Gewerbepark 13, 8562 Mooskirchen
DTSTAMP:20260419T192401
SUMMARY:MyAuktion: Ablauf Artikel Nr. 955611 Mal selv-Krus DIY mug 4Stk Tassen
URL;VALUE=URI:https://www.myauktion.com/versteigerung7639-position2437707-mal-selv-krus-diy-mug-4stk-tassen.php
DESCRIPTION:
UID:myauktion-7639-2437707
BEGIN:VALARM
ACTION:DISPLAY
DESCRIPTION:
TRIGGER:-PT10M
END:VALARM
END:VEVENT
END:VCALENDAR