BEGIN:VCALENDAR
VERSION:2.0
PRODID:-//Goldgrube//myauktion.com//AT
CALSCALE:GREGORIAN
BEGIN:VEVENT
DTSTART:20260503T123600
DTEND:20260503T123630
LOCATION:Gewerbepark 13, 8562 Mooskirchen
DTSTAMP:20260419T162730
SUMMARY:MyAuktion: Ablauf Artikel Nr. 956319 Benson Marker 6tlg
URL;VALUE=URI:https://www.myauktion.com/versteigerung7639-position2437711-benson-marker-6tlg.php
DESCRIPTION:
UID:myauktion-7639-2437711
BEGIN:VALARM
ACTION:DISPLAY
DESCRIPTION:
TRIGGER:-PT10M
END:VALARM
END:VEVENT
END:VCALENDAR