BEGIN:VCALENDAR
VERSION:2.0
PRODID:-//Goldgrube//myauktion.com//AT
CALSCALE:GREGORIAN
BEGIN:VEVENT
DTSTART:20260503T101000
DTEND:20260503T101030
LOCATION:Gewerbepark 13, 8562 Mooskirchen
DTSTAMP:20260419T154426
SUMMARY:MyAuktion: Ablauf Artikel Nr. 955555 IKEA Komplement 75x35cm 702.779.95 Schrank Einlage
URL;VALUE=URI:https://www.myauktion.com/versteigerung7639-position2437714-ikea-komplement-75x35cm-70277995-schrank-einlage.php
DESCRIPTION:
UID:myauktion-7639-2437714
BEGIN:VALARM
ACTION:DISPLAY
DESCRIPTION:
TRIGGER:-PT10M
END:VALARM
END:VEVENT
END:VCALENDAR