BEGIN:VCALENDAR
VERSION:2.0
PRODID:-//Goldgrube//myauktion.com//AT
CALSCALE:GREGORIAN
BEGIN:VEVENT
DTSTART:20260503T133100
DTEND:20260503T133130
LOCATION:Gewerbepark 13, 8562 Mooskirchen
DTSTAMP:20260419T205715
SUMMARY:MyAuktion: Ablauf Artikel Nr. 956392 Dexcom G6 Sensor(3) STS-GS-003 
URL;VALUE=URI:https://www.myauktion.com/versteigerung7639-position2437735-dexcom-g6-sensor3-sts-gs-003.php
DESCRIPTION:MHD 30.11.2026 
UID:myauktion-7639-2437735
BEGIN:VALARM
ACTION:DISPLAY
DESCRIPTION:MHD 30.11.2026 
TRIGGER:-PT10M
END:VALARM
END:VEVENT
END:VCALENDAR