BEGIN:VCALENDAR
VERSION:2.0
PRODID:-//Goldgrube//myauktion.com//AT
CALSCALE:GREGORIAN
BEGIN:VEVENT
DTSTART:20260503T130900
DTEND:20260503T130930
LOCATION:Gewerbepark 13, 8562 Mooskirchen
DTSTAMP:20260419T192344
SUMMARY:MyAuktion: Ablauf Artikel Nr. 956343 Artikel Description table easel 50cm pine wood 
URL;VALUE=URI:https://www.myauktion.com/versteigerung7639-position2437736-artikel-description-table-easel-50cm-pine-wood.php
DESCRIPTION:
UID:myauktion-7639-2437736
BEGIN:VALARM
ACTION:DISPLAY
DESCRIPTION:
TRIGGER:-PT10M
END:VALARM
END:VEVENT
END:VCALENDAR