BEGIN:VCALENDAR
VERSION:2.0
PRODID:-//Goldgrube//myauktion.com//AT
CALSCALE:GREGORIAN
BEGIN:VEVENT
DTSTART:20260503T133300
DTEND:20260503T133330
LOCATION:Gewerbepark 13, 8562 Mooskirchen
DTSTAMP:20260419T192345
SUMMARY:MyAuktion: Ablauf Artikel Nr. 956393 YpsoPump Infusion Set UL2461 10Stk 
URL;VALUE=URI:https://www.myauktion.com/versteigerung7639-position2437737-ypsopump-infusion-set-ul2461-10stk.php
DESCRIPTION:MHD 03.01.2028  
UID:myauktion-7639-2437737
BEGIN:VALARM
ACTION:DISPLAY
DESCRIPTION:MHD 03.01.2028  
TRIGGER:-PT10M
END:VALARM
END:VEVENT
END:VCALENDAR