BEGIN:VCALENDAR
VERSION:2.0
PRODID:-//Goldgrube//myauktion.com//AT
CALSCALE:GREGORIAN
BEGIN:VEVENT
DTSTART:20260503T133900
DTEND:20260503T133930
LOCATION:Gewerbepark 13, 8562 Mooskirchen
DTSTAMP:20260419T151129
SUMMARY:MyAuktion: Ablauf Artikel Nr. 956398 Rösle Besteck-Set "Elegance" 30tlg. (Edelstahl 18/10, hochglanz) 
URL;VALUE=URI:https://www.myauktion.com/versteigerung7639-position2437738-roesle-besteck-set-34elegance-34-30tlg-edelstahl-18-10-hochglanz.php
DESCRIPTION:
UID:myauktion-7639-2437738
BEGIN:VALARM
ACTION:DISPLAY
DESCRIPTION:
TRIGGER:-PT10M
END:VALARM
END:VEVENT
END:VCALENDAR