BEGIN:VCALENDAR
VERSION:2.0
PRODID:-//Goldgrube//myauktion.com//AT
CALSCALE:GREGORIAN
BEGIN:VEVENT
DTSTART:20260503T103100
DTEND:20260503T103130
LOCATION:Gewerbepark 13, 8562 Mooskirchen
DTSTAMP:20260419T154428
SUMMARY:MyAuktion: Ablauf Artikel Nr. 955575 Panzer Glass On|Demand 2-Way Privacy Screen Protector For Phone 10PCS 200mmx125mm
URL;VALUE=URI:https://www.myauktion.com/versteigerung7639-position2437739-panzer-glass-ondemand-2-way-privacy-screen-protector-for-phone-10pcs-200mmx125mm.php
DESCRIPTION:
UID:myauktion-7639-2437739
BEGIN:VALARM
ACTION:DISPLAY
DESCRIPTION:
TRIGGER:-PT10M
END:VALARM
END:VEVENT
END:VCALENDAR