BEGIN:VCALENDAR
VERSION:2.0
PRODID:-//Goldgrube//myauktion.com//AT
CALSCALE:GREGORIAN
BEGIN:VEVENT
DTSTART:20260503T134300
DTEND:20260503T134330
LOCATION:Gewerbepark 13, 8562 Mooskirchen
DTSTAMP:20260419T192349
SUMMARY:MyAuktion: Ablauf Artikel Nr. 956401 Novritsch Open Pistol Mag Pouch 2.2 ACP E24M-2 
URL;VALUE=URI:https://www.myauktion.com/versteigerung7639-position2437740-novritsch-open-pistol-mag-pouch-22-acp-e24m-2.php
DESCRIPTION:
UID:myauktion-7639-2437740
BEGIN:VALARM
ACTION:DISPLAY
DESCRIPTION:
TRIGGER:-PT10M
END:VALARM
END:VEVENT
END:VCALENDAR