BEGIN:VCALENDAR
VERSION:2.0
PRODID:-//Goldgrube//myauktion.com//AT
CALSCALE:GREGORIAN
BEGIN:VEVENT
DTSTART:20260503T140600
DTEND:20260503T140630
LOCATION:Gewerbepark 13, 8562 Mooskirchen
DTSTAMP:20260419T192408
SUMMARY:MyAuktion: Ablauf Artikel Nr. 956420 Pro&#39;s Pro Tennis Saite 1.24 schwarz 201C 200m 5-Kant 
URL;VALUE=URI:https://www.myauktion.com/versteigerung7639-position2437751-pro-39s-pro-tennis-saite-124-schwarz-201c-200m-5-kant.php
DESCRIPTION:
UID:myauktion-7639-2437751
BEGIN:VALARM
ACTION:DISPLAY
DESCRIPTION:
TRIGGER:-PT10M
END:VALARM
END:VEVENT
END:VCALENDAR