BEGIN:VCALENDAR
VERSION:2.0
PRODID:-//Goldgrube//myauktion.com//AT
CALSCALE:GREGORIAN
BEGIN:VEVENT
DTSTART:20260503T105700
DTEND:20260503T105730
LOCATION:Gewerbepark 13, 8562 Mooskirchen
DTSTAMP:20260419T154446
SUMMARY:MyAuktion: Ablauf Artikel Nr. 955587 Panzer Glass Camera Lens Protection für Apple iPhone 17/16/16 Plus Hoops Black Metal 
URL;VALUE=URI:https://www.myauktion.com/versteigerung7639-position2437754-panzer-glass-camera-lens-protection-fuer-apple-iphone-17-16-16-plus-hoops-black-metal.php
DESCRIPTION:
UID:myauktion-7639-2437754
BEGIN:VALARM
ACTION:DISPLAY
DESCRIPTION:
TRIGGER:-PT10M
END:VALARM
END:VEVENT
END:VCALENDAR