BEGIN:VCALENDAR
VERSION:2.0
PRODID:-//Goldgrube//myauktion.com//AT
CALSCALE:GREGORIAN
BEGIN:VEVENT
DTSTART:20260503T141800
DTEND:20260503T141830
LOCATION:Gewerbepark 13, 8562 Mooskirchen
DTSTAMP:20260419T192403
SUMMARY:MyAuktion: Ablauf Artikel Nr. 956428 Ricoh Print Cartridge Yellow MP C406 113 
URL;VALUE=URI:https://www.myauktion.com/versteigerung7639-position2437756-ricoh-print-cartridge-yellow-mp-c406-113.php
DESCRIPTION:
UID:myauktion-7639-2437756
BEGIN:VALARM
ACTION:DISPLAY
DESCRIPTION:
TRIGGER:-PT10M
END:VALARM
END:VEVENT
END:VCALENDAR