BEGIN:VCALENDAR
VERSION:2.0
PRODID:-//Goldgrube//myauktion.com//AT
CALSCALE:GREGORIAN
BEGIN:VEVENT
DTSTART:20260503T142000
DTEND:20260503T142030
LOCATION:Gewerbepark 13, 8562 Mooskirchen
DTSTAMP:20260419T193446
SUMMARY:MyAuktion: Ablauf Artikel Nr. 956429 Ricoh Print Cartridge Black MP C406 260g 
URL;VALUE=URI:https://www.myauktion.com/versteigerung7639-position2437758-ricoh-print-cartridge-black-mp-c406-260g.php
DESCRIPTION:
UID:myauktion-7639-2437758
BEGIN:VALARM
ACTION:DISPLAY
DESCRIPTION:
TRIGGER:-PT10M
END:VALARM
END:VEVENT
END:VCALENDAR