BEGIN:VCALENDAR
VERSION:2.0
PRODID:-//Goldgrube//myauktion.com//AT
CALSCALE:GREGORIAN
BEGIN:VEVENT
DTSTART:20260503T142100
DTEND:20260503T142130
LOCATION:Gewerbepark 13, 8562 Mooskirchen
DTSTAMP:20260419T193446
SUMMARY:MyAuktion: Ablauf Artikel Nr. 956430 Ricoh Print Cartridge Cyan MP C406 101g 
URL;VALUE=URI:https://www.myauktion.com/versteigerung7639-position2437759-ricoh-print-cartridge-cyan-mp-c406-101g.php
DESCRIPTION:
UID:myauktion-7639-2437759
BEGIN:VALARM
ACTION:DISPLAY
DESCRIPTION:
TRIGGER:-PT10M
END:VALARM
END:VEVENT
END:VCALENDAR