BEGIN:VCALENDAR
VERSION:2.0
PRODID:-//Goldgrube//myauktion.com//AT
CALSCALE:GREGORIAN
BEGIN:VEVENT
DTSTART:20260503T113000
DTEND:20260503T113030
LOCATION:Gewerbepark 13, 8562 Mooskirchen
DTSTAMP:20260419T154429
SUMMARY:MyAuktion: Ablauf Artikel Nr. 955609 Finntip thermo scientific Filter 200 Sterile 10x95pcs 
URL;VALUE=URI:https://www.myauktion.com/versteigerung7639-position2437770-finntip-thermo-scientific-filter-200-sterile-10x95pcs.php
DESCRIPTION:
UID:myauktion-7639-2437770
BEGIN:VALARM
ACTION:DISPLAY
DESCRIPTION:
TRIGGER:-PT10M
END:VALARM
END:VEVENT
END:VCALENDAR